BEGIN:VCALENDAR
VERSION:2.0
PRODID:icalendar-ruby
CALSCALE:GREGORIAN
METHOD:PUBLISH
BEGIN:VEVENT
DTSTAMP:20260422T114245Z
UID:8-1147735@gracefs.com
DTSTART:20260914T230000Z
DTEND:20260915T000000Z
CLASS:PUBLIC
CREATED:20260421T201825
DESCRIPTION:Looking for a place to connect\, reflect\, and start your week 
 grounded in truth? Our Monday night service is a wonderful option for thos
 e unable to attend our Sunday morning service. \nMonday Nights at 6:00PM-
  Contemporary Service 
LAST-MODIFIED:20260421T201825
LOCATION:Worship Center 
SUMMARY:Monday Night Service 
URL;VALUE=URI:https://www.gracefs.com/events/monday-night-service/2026-09-1
 4
ATTACH;FILENAME=241360290_10160521442091323_8451892304988986986_n.jpg;FMTTY
 PE=image/jpeg:https://dq5pwpg1q8ru0.cloudfront.net/2025/01/16/17/31/07/ffb
 c5098-c5c6-46c0-abf0-36f0582ed85a/241360290_10160521442091323_845189230498
 8986986_n.jpg
END:VEVENT
END:VCALENDAR
