BEGIN:VCALENDAR
VERSION:2.0
PRODID:icalendar-ruby
CALSCALE:GREGORIAN
METHOD:PUBLISH
BEGIN:VEVENT
DTSTAMP:20260421T080050Z
UID:139-1127320@gracefs.com
DTSTART:20260503T160000Z
DTEND:20260503T170000Z
CLASS:PUBLIC
CREATED:20260409T085702
DESCRIPTION:Our New Connections Class is a welcoming space to connect with 
 others\, learn more about our church\, and a chance dive deeper into what 
 we believe. Whether you’re new to Grace or just want a deeper understand
 ing of our mission\, this class is the perfect place to start! This class 
 is a 6-week study\, led by Staci Moore and Amy Sweeten. Sign-Up today! 
LAST-MODIFIED:20260409T085702
LOCATION:Church Office 
SUMMARY:New Connections Class 
URL;VALUE=URI:https://www.gracefs.com/events/new-connections-class/2026-05-
 03
ATTACH;FILENAME=New-Connections-Class.png;FMTTYPE=image/png:https://dq5pwpg
 1q8ru0.cloudfront.net/2026/03/23/20/56/13/7072d270-5116-4973-9d5b-0b3d36dc
 f730/New-Connections-Class.png
END:VEVENT
END:VCALENDAR
